BEGIN:VCALENDAR
VERSION:2.0
PRODID:-//Stafford and Districts Amateur Radio Society - ECPv6.15.20//NONSGML v1.0//EN
CALSCALE:GREGORIAN
METHOD:PUBLISH
X-WR-CALNAME:Stafford and Districts Amateur Radio Society
X-ORIGINAL-URL:https://g3sbl.org.uk
X-WR-CALDESC:Events for Stafford and Districts Amateur Radio Society
REFRESH-INTERVAL;VALUE=DURATION:PT1H
X-Robots-Tag:noindex
X-PUBLISHED-TTL:PT1H
BEGIN:VTIMEZONE
TZID:UTC
BEGIN:STANDARD
TZOFFSETFROM:+0000
TZOFFSETTO:+0000
TZNAME:UTC
DTSTART:20230101T000000
END:STANDARD
END:VTIMEZONE
BEGIN:VEVENT
DTSTART;TZID=UTC:20241204T200000
DTEND;TZID=UTC:20241204T220000
DTSTAMP:20260417T172318
CREATED:20240729T163632Z
LAST-MODIFIED:20241127T155151Z
UID:1137-1733342400-1733349600@g3sbl.org.uk
SUMMARY:Club meeting\, RSGB Video "Basic Modelling and Antennas for Portable HF" and Club Net
DESCRIPTION:Club will meet at the Community Centre at 20.00. \nWe shall be presenting Basic Modelling and Antennas for Portable HF from the RSGB  during the evening. \nThe club net will be in operation between 20.30 and 21.00 on 145.375FM. \nFor those wishing to operate a station we can gain access to the shed early so that the antenna can be set up before 20.00 . \nCan I remind us all to sign in when attending the club\, this helps with the Fire register and also gives us a record of the numbers attending
URL:https://g3sbl.org.uk/event/club-meeting-project-construction-and-club-net-16/
END:VEVENT
END:VCALENDAR