BEGIN:VCALENDAR
VERSION:2.0
PRODID:-//Stafford and Districts Amateur Radio Society - ECPv6.15.20//NONSGML v1.0//EN
CALSCALE:GREGORIAN
METHOD:PUBLISH
X-WR-CALNAME:Stafford and Districts Amateur Radio Society
X-ORIGINAL-URL:https://g3sbl.org.uk
X-WR-CALDESC:Events for Stafford and Districts Amateur Radio Society
REFRESH-INTERVAL;VALUE=DURATION:PT1H
X-Robots-Tag:noindex
X-PUBLISHED-TTL:PT1H
BEGIN:VTIMEZONE
TZID:UTC
BEGIN:STANDARD
TZOFFSETFROM:+0000
TZOFFSETTO:+0000
TZNAME:UTC
DTSTART:20230101T000000
END:STANDARD
END:VTIMEZONE
BEGIN:VEVENT
DTSTART;TZID=UTC:20241218T200000
DTEND;TZID=UTC:20241218T220000
DTSTAMP:20260419T182821
CREATED:20240729T163837Z
LAST-MODIFIED:20241115T101128Z
UID:1141-1734552000-1734559200@g3sbl.org.uk
SUMMARY:Club meeting\, RSGB Video presentation and Fish and Chip supper
DESCRIPTION:Club will meet at the Community Centre at 20.00. \nWe will be showing a Vidoe from the RSGB during the evening. \nWe will also be arranging a Fish and CHip supper\, as before. Order form will be circulated before the meeting and one of the committee will collect. \nFor those wishing to operate a station we can gain access to the shed early so that the antenna can be set up before 20.00 . \nCan I remind us all to sign in when attending the club\, this helps with the Fire register and also gives us a record of the numbers attending
URL:https://g3sbl.org.uk/event/club-meeting-project-construction-and-club-net-18/
END:VEVENT
END:VCALENDAR