BEGIN:VCALENDAR
VERSION:2.0
PRODID:-//Stafford and Districts Amateur Radio Society - ECPv6.15.20//NONSGML v1.0//EN
CALSCALE:GREGORIAN
METHOD:PUBLISH
X-WR-CALNAME:Stafford and Districts Amateur Radio Society
X-ORIGINAL-URL:https://g3sbl.org.uk
X-WR-CALDESC:Events for Stafford and Districts Amateur Radio Society
REFRESH-INTERVAL;VALUE=DURATION:PT1H
X-Robots-Tag:noindex
X-PUBLISHED-TTL:PT1H
BEGIN:VTIMEZONE
TZID:UTC
BEGIN:STANDARD
TZOFFSETFROM:+0000
TZOFFSETTO:+0000
TZNAME:UTC
DTSTART:20240101T000000
END:STANDARD
END:VTIMEZONE
BEGIN:VEVENT
DTSTART;TZID=UTC:20250101T200000
DTEND;TZID=UTC:20250101T220000
DTSTAMP:20260419T182802
CREATED:20241220T133936Z
LAST-MODIFIED:20241220T133936Z
UID:1183-1735761600-1735768800@g3sbl.org.uk
SUMMARY:No Club meeting this week - Club Net available
DESCRIPTION:No Club meeting this week. \nNext meeting scheduled for 8th January 2025 \nThe club net will be in operation between 20.30 and 21.00 on 145.375FM.
URL:https://g3sbl.org.uk/event/no-club-meeting-this-week-club-net-available/
END:VEVENT
END:VCALENDAR