BEGIN:VCALENDAR
VERSION:2.0
PRODID:-//Stafford and Districts Amateur Radio Society - ECPv6.15.20//NONSGML v1.0//EN
CALSCALE:GREGORIAN
METHOD:PUBLISH
X-WR-CALNAME:Stafford and Districts Amateur Radio Society
X-ORIGINAL-URL:https://g3sbl.org.uk
X-WR-CALDESC:Events for Stafford and Districts Amateur Radio Society
REFRESH-INTERVAL;VALUE=DURATION:PT1H
X-Robots-Tag:noindex
X-PUBLISHED-TTL:PT1H
BEGIN:VTIMEZONE
TZID:UTC
BEGIN:STANDARD
TZOFFSETFROM:+0000
TZOFFSETTO:+0000
TZNAME:UTC
DTSTART:20200101T000000
END:STANDARD
END:VTIMEZONE
BEGIN:VEVENT
DTSTART;TZID=UTC:20211027T200000
DTEND;TZID=UTC:20211027T220000
DTSTAMP:20260425T155207
CREATED:20211022T103443Z
LAST-MODIFIED:20211022T103525Z
UID:29-1635364800-1635372000@g3sbl.org.uk
SUMMARY:Film Night - Dealing with RFI in the shack
DESCRIPTION:A RSGB talk on dealing with RFI issues in the shack.
URL:https://g3sbl.org.uk/event/film-night-dealing-with-rfi-in-the-shack/
END:VEVENT
END:VCALENDAR