BEGIN:VCALENDAR
VERSION:2.0
PRODID:-//Stafford and Districts Amateur Radio Society - ECPv6.15.20//NONSGML v1.0//EN
CALSCALE:GREGORIAN
METHOD:PUBLISH
X-WR-CALNAME:Stafford and Districts Amateur Radio Society
X-ORIGINAL-URL:https://g3sbl.org.uk
X-WR-CALDESC:Events for Stafford and Districts Amateur Radio Society
REFRESH-INTERVAL;VALUE=DURATION:PT1H
X-Robots-Tag:noindex
X-PUBLISHED-TTL:PT1H
BEGIN:VTIMEZONE
TZID:UTC
BEGIN:STANDARD
TZOFFSETFROM:+0000
TZOFFSETTO:+0000
TZNAME:UTC
DTSTART:20200101T000000
END:STANDARD
END:VTIMEZONE
BEGIN:VEVENT
DTSTART;TZID=UTC:20220309T200000
DTEND;TZID=UTC:20220309T220000
DTSTAMP:20260419T150257
CREATED:20220228T092610Z
LAST-MODIFIED:20220309T103228Z
UID:229-1646856000-1646863200@g3sbl.org.uk
SUMMARY:General Meeting
DESCRIPTION:The club will be meeting at the community centre at 20:00 this week. \nSome general guidelines for  those attending. \n\nSign in register – while this is no longer a covid requirement all members and visitors should sign in shortly after entering the community centre.  This also acts as a fire register.\nFace masks – please feel free to wear a face mask at any time.\nVentilation – we will try to ensure that the centre is well ventilated so please wear appropriate warm clothing.\nSanitize – please sanitize your hands before and after handling any equipment that may be shared with other club members.\n\n  \nWe will continue to monitor attendance levels and plan to restart club activities\, presentations etc. based on attendance. \nIt is your responsibility to only attend the club if you feel well.  If you feel or appear unwell while attending the club\, you will be requested to leave for your own and the club memberships health and safety.
URL:https://g3sbl.org.uk/event/general-meeting-5/
END:VEVENT
BEGIN:VEVENT
DTSTART;TZID=UTC:20220223T200000
DTEND;TZID=UTC:20220223T220000
DTSTAMP:20260419T150257
CREATED:20211129T152624Z
LAST-MODIFIED:20211129T152624Z
UID:210-1645646400-1645653600@g3sbl.org.uk
SUMMARY:Video Night - TBA
DESCRIPTION:Video subject TBA
URL:https://g3sbl.org.uk/event/video-night-tba/
END:VEVENT
BEGIN:VEVENT
DTSTART;TZID=UTC:20220216T200000
DTEND;TZID=UTC:20220216T220000
DTSTAMP:20260419T150257
CREATED:20211129T152437Z
LAST-MODIFIED:20211129T152437Z
UID:208-1645041600-1645048800@g3sbl.org.uk
SUMMARY:GNU Radio - Building radio applications in software
DESCRIPTION:by John\, M0TWN
URL:https://g3sbl.org.uk/event/gnu-radio-building-radio-applications-in-software/
END:VEVENT
BEGIN:VEVENT
DTSTART;TZID=UTC:20220209T193000
DTEND;TZID=UTC:20220209T220000
DTSTAMP:20260419T150257
CREATED:20211129T152302Z
LAST-MODIFIED:20220119T143710Z
UID:206-1644435000-1644444000@g3sbl.org.uk
SUMMARY:General meeting on Zoom
DESCRIPTION:
URL:https://g3sbl.org.uk/event/general-meeting-4/
END:VEVENT
BEGIN:VEVENT
DTSTART;TZID=UTC:20220202T193000
DTEND;TZID=UTC:20220202T220000
DTSTAMP:20260419T150257
CREATED:20211129T152215Z
LAST-MODIFIED:20220119T143819Z
UID:204-1643830200-1643839200@g3sbl.org.uk
SUMMARY:General meeting on Zoom
DESCRIPTION:
URL:https://g3sbl.org.uk/event/general-meeting-3/
END:VEVENT
BEGIN:VEVENT
DTSTART;TZID=UTC:20220126T193000
DTEND;TZID=UTC:20220126T220000
DTSTAMP:20260419T150257
CREATED:20211129T152112Z
LAST-MODIFIED:20220119T143642Z
UID:202-1643225400-1643234400@g3sbl.org.uk
SUMMARY:General meeting on Zoom
DESCRIPTION:
URL:https://g3sbl.org.uk/event/oscilloscopes-a-radio-users-view/
END:VEVENT
BEGIN:VEVENT
DTSTART;TZID=UTC:20220119T193000
DTEND;TZID=UTC:20220119T220000
DTSTAMP:20260419T150257
CREATED:20211129T152011Z
LAST-MODIFIED:20220119T143616Z
UID:200-1642620600-1642629600@g3sbl.org.uk
SUMMARY:General meeting on Zoom
DESCRIPTION:
URL:https://g3sbl.org.uk/event/web-sdr-and-digital-modes/
END:VEVENT
BEGIN:VEVENT
DTSTART;TZID=UTC:20220112T200000
DTEND;TZID=UTC:20220112T220000
DTSTAMP:20260419T150257
CREATED:20211129T151858Z
LAST-MODIFIED:20211129T151858Z
UID:198-1642017600-1642024800@g3sbl.org.uk
SUMMARY:General Meeting
DESCRIPTION:
URL:https://g3sbl.org.uk/event/general-meeting-2/
END:VEVENT
BEGIN:VEVENT
DTSTART;TZID=UTC:20220105T200000
DTEND;TZID=UTC:20220105T220000
DTSTAMP:20260419T150257
CREATED:20211129T151813Z
LAST-MODIFIED:20211129T151813Z
UID:196-1641412800-1641420000@g3sbl.org.uk
SUMMARY:General Meeting
DESCRIPTION:
URL:https://g3sbl.org.uk/event/general-meeting/
END:VEVENT
BEGIN:VEVENT
DTSTART;TZID=UTC:20211229T200000
DTEND;TZID=UTC:20211229T220000
DTSTAMP:20260419T150257
CREATED:20211129T151552Z
LAST-MODIFIED:20211129T151720Z
UID:193-1640808000-1640815200@g3sbl.org.uk
SUMMARY:General meeting
DESCRIPTION:General meeting
URL:https://g3sbl.org.uk/event/meeting-activity-tba/
END:VEVENT
BEGIN:VEVENT
DTSTART;TZID=UTC:20211229T200000
DTEND;TZID=UTC:20211229T220000
DTSTAMP:20260419T150257
CREATED:20211108T110818Z
LAST-MODIFIED:20211108T110818Z
UID:171-1640808000-1640815200@g3sbl.org.uk
SUMMARY:Club Meeting
DESCRIPTION:General club meeting \nBring along your projects or just come for a chat
URL:https://g3sbl.org.uk/event/club-meeting/
END:VEVENT
BEGIN:VEVENT
DTSTART;TZID=UTC:20211222T200000
DTEND;TZID=UTC:20211222T220000
DTSTAMP:20260419T150257
CREATED:20211108T110625Z
LAST-MODIFIED:20211108T110625Z
UID:169-1640203200-1640210400@g3sbl.org.uk
SUMMARY:Christmas Social - Buffett
DESCRIPTION:Bring along some food for our annual christmas get together
URL:https://g3sbl.org.uk/event/christmas-social-buffett/
END:VEVENT
BEGIN:VEVENT
DTSTART;TZID=UTC:20211215T200000
DTEND;TZID=UTC:20211215T220000
DTSTAMP:20260419T150257
CREATED:20211108T110438Z
LAST-MODIFIED:20211108T110438Z
UID:167-1639598400-1639605600@g3sbl.org.uk
SUMMARY:Club meeting - Activity TBA
DESCRIPTION:Club meeting – Activity TBA
URL:https://g3sbl.org.uk/event/club-meeting-activity-tba/
END:VEVENT
BEGIN:VEVENT
DTSTART;TZID=UTC:20211208T200000
DTEND;TZID=UTC:20211208T220000
DTSTAMP:20260419T150257
CREATED:20211129T153056Z
LAST-MODIFIED:20220309T132438Z
UID:216-1638993600-1639000800@g3sbl.org.uk
SUMMARY:Arduino - basic programming
DESCRIPTION:This weeks club meeting we intend to have a talk covering an introduction into Arduino programming\, given by Nigel\, M7ANG \nThe talk will cover the following subjects \n• Programming methods\n• Integrated Development Environment (IDE)\n• Flow chart (XOD)\n• Basic code generation.\n• Review of the Arduino IDE\n• Example program to control a stepper motor \nThis talk will give some basic information concluding with a demonstration of a simple program to control the position of a stepper motor.\nThe intention in the new year is to run a series of hands on work shops to take members with no or limited experience in programming through the basics of programming an Arduino. \nArduino basic software
URL:https://g3sbl.org.uk/event/arduino-basic-programming/
END:VEVENT
BEGIN:VEVENT
DTSTART;TZID=UTC:20211201T200000
DTEND;TZID=UTC:20211201T220000
DTSTAMP:20260419T150257
CREATED:20211108T110232Z
LAST-MODIFIED:20211125T112840Z
UID:163-1638388800-1638396000@g3sbl.org.uk
SUMMARY:Video - Clean up your shack - by Ian White GM3SEK
DESCRIPTION:Video presentation – Clean up your shack by Ian White GM3SEK
URL:https://g3sbl.org.uk/event/video-clean-up-your-shack-given-by-ian-white-gm3sek/
END:VEVENT
BEGIN:VEVENT
DTSTART;TZID=UTC:20211124T200000
DTEND;TZID=UTC:20211124T220000
DTSTAMP:20260419T150257
CREATED:20211108T110107Z
LAST-MODIFIED:20211108T110107Z
UID:161-1637784000-1637791200@g3sbl.org.uk
SUMMARY:Open Meeting / Fish and Chips
DESCRIPTION:Open feedback meeting from the latest committiee meeting \nFish and Chips – Please place your order by Tuesday at the latest
URL:https://g3sbl.org.uk/event/open-meeting-fish-and-chips/
END:VEVENT
BEGIN:VEVENT
DTSTART;TZID=UTC:20211117T200000
DTEND;TZID=UTC:20211117T220000
DTSTAMP:20260419T150257
CREATED:20211108T105917Z
LAST-MODIFIED:20220309T152432Z
UID:159-1637179200-1637186400@g3sbl.org.uk
SUMMARY:Raspberry Pi - Basic Hardware
DESCRIPTION:This weeks club meeting we intend to have a talk covering an introduction to Raspberry Pi hardware\, given by John\, M0WTN. \nThe talk will cover the following subjects \n• What is a Raspberry Pi?\n• What is an SBC?\n• Types of Raspberry Pi\n• Raspberry Pi HATs (Hardware Attached on Top)\n• What is Raspberry Pi used for?\n• What can the Raspberry Pi do?\n• Inputs & Outputs (GPIO)\n• Digital IO. What about Analog IO?\n• Communications\n• Why Raspberry Pi?\n• Should I use Raspberry Pi or should I use Arduino? \nThis talk will give some basic information of the various Raspberry Pi hardware\, including various add-on boards.\nThe intention in the new year is to run a series of hands on work shops to take members with no or limited experience in programming through the basics of programming a Raspberry Pi. \nRaspberry Pi Hardware
URL:https://g3sbl.org.uk/event/raspberry-pi-basic-hardware-john-m0twn/
END:VEVENT
BEGIN:VEVENT
DTSTART;TZID=UTC:20211110T200000
DTEND;TZID=UTC:20211110T220000
DTSTAMP:20260419T150257
CREATED:20211108T105635Z
LAST-MODIFIED:20211108T105635Z
UID:157-1636574400-1636581600@g3sbl.org.uk
SUMMARY:Quiz Night
DESCRIPTION:Radio and general knowledge quiz \nBring along one radio related and one general knowlege question
URL:https://g3sbl.org.uk/event/quiz-night/
END:VEVENT
BEGIN:VEVENT
DTSTART;TZID=UTC:20211027T200000
DTEND;TZID=UTC:20211027T220000
DTSTAMP:20260419T150257
CREATED:20211022T103443Z
LAST-MODIFIED:20211022T103525Z
UID:29-1635364800-1635372000@g3sbl.org.uk
SUMMARY:Film Night - Dealing with RFI in the shack
DESCRIPTION:A RSGB talk on dealing with RFI issues in the shack.
URL:https://g3sbl.org.uk/event/film-night-dealing-with-rfi-in-the-shack/
END:VEVENT
END:VCALENDAR