BEGIN:VCALENDAR
VERSION:2.0
PRODID:-//Stafford and Districts Amateur Radio Society - ECPv6.15.20//NONSGML v1.0//EN
CALSCALE:GREGORIAN
METHOD:PUBLISH
X-WR-CALNAME:Stafford and Districts Amateur Radio Society
X-ORIGINAL-URL:https://g3sbl.org.uk
X-WR-CALDESC:Events for Stafford and Districts Amateur Radio Society
REFRESH-INTERVAL;VALUE=DURATION:PT1H
X-Robots-Tag:noindex
X-PUBLISHED-TTL:PT1H
BEGIN:VTIMEZONE
TZID:UTC
BEGIN:STANDARD
TZOFFSETFROM:+0000
TZOFFSETTO:+0000
TZNAME:UTC
DTSTART:20230101T000000
END:STANDARD
END:VTIMEZONE
BEGIN:VEVENT
DTSTART;TZID=UTC:20241102T080000
DTEND;TZID=UTC:20241102T170000
DTSTAMP:20260417T201824
CREATED:20240531T070537Z
LAST-MODIFIED:20240722T071340Z
UID:1051-1730534400-1730566800@g3sbl.org.uk
SUMMARY:BLETCHLEY PARK - Club outing - 2nd November
DESCRIPTION:The club is planning a visit to Bletchley park. \nTransport has been arranged from the Community centre. \nRSGB members have free access to the site\, need to book a ticket online. \nFor those who are not members the ticket costs are below \nAdult                                                                                    £23.40 \nConcession (over 60s and students with valid ID)    £21.15 \nIf you are interested in coming and have not submitted your interest could you let a committee member know\, there are only limited seats available on the mini bus \n 
URL:https://g3sbl.org.uk/event/bletchley-park-club-outing-2nd-november/
END:VEVENT
BEGIN:VEVENT
DTSTART;TZID=UTC:20241106T200000
DTEND;TZID=UTC:20241106T220000
DTSTAMP:20260417T201824
CREATED:20240729T163130Z
LAST-MODIFIED:20240729T163130Z
UID:1129-1730923200-1730930400@g3sbl.org.uk
SUMMARY:Club meeting and Club Net
DESCRIPTION:Club will meet at the Community Centre at 20.00. \n  \nThe club net will be in operation between 20.30 and 21.00 on 145.375FM. \nFor those wishing to operate a station we can gain access to the shed early so that the antenna can be set up before 20.00 . \nCan I remind us all to sign in when attending the club\, this helps with the Fire register and also gives us a record of the numbers attending
URL:https://g3sbl.org.uk/event/club-meeting-and-club-net-3/
END:VEVENT
BEGIN:VEVENT
DTSTART;TZID=UTC:20241113T200000
DTEND;TZID=UTC:20241113T220000
DTSTAMP:20260417T201824
CREATED:20240729T163241Z
LAST-MODIFIED:20240729T163241Z
UID:1131-1731528000-1731535200@g3sbl.org.uk
SUMMARY:Club meeting and Club Net
DESCRIPTION:Club will meet at the Community Centre at 20.00. \n  \nThe club net will be in operation between 20.30 and 21.00 on 145.375FM. \nFor those wishing to operate a station we can gain access to the shed early so that the antenna can be set up before 20.00 . \nCan I remind us all to sign in when attending the club\, this helps with the Fire register and also gives us a record of the numbers attending
URL:https://g3sbl.org.uk/event/club-meeting-and-club-net-4/
END:VEVENT
BEGIN:VEVENT
DTSTART;TZID=UTC:20241120T200000
DTEND;TZID=UTC:20241120T220000
DTSTAMP:20260417T201824
CREATED:20240729T163357Z
LAST-MODIFIED:20241031T092710Z
UID:1133-1732132800-1732140000@g3sbl.org.uk
SUMMARY:Talk\, My life with Amateur Radio\, Derek Southey
DESCRIPTION:Club will meet at the Community Centre at 20.00. \nWe will have a talk by Derek on his experiences with Amateur radio \nThe club net will be in operation between 20.30 and 21.00 on 145.375FM. \nFor those wishing to operate a station we can gain access to the shed early so that the antenna can be set up before 20.00 . \nCan I remind us all to sign in when attending the club\, this helps with the Fire register and also gives us a record of the numbers attending
URL:https://g3sbl.org.uk/event/talk-to-be-confirmed-2/
END:VEVENT
BEGIN:VEVENT
DTSTART;TZID=UTC:20241127T200000
DTEND;TZID=UTC:20241127T220000
DTSTAMP:20260417T201824
CREATED:20240729T163518Z
LAST-MODIFIED:20241115T101543Z
UID:1135-1732737600-1732744800@g3sbl.org.uk
SUMMARY:Club meeting Project construction and Club Net
DESCRIPTION:Club will meet at the Community Centre at 20.00. \nIt will be a Project construction meeting  with the opportunity to operate. \nThe club net will be in operation between 20.30 and 21.00 on 145.375FM. \nFor those wishing to operate a station we can gain access to the shed early so that the antenna can be set up before 20.00 . \nCan I remind us all to sign in when attending the club\, this helps with the Fire register and also gives us a record of the numbers attending
URL:https://g3sbl.org.uk/event/club-meeting-and-club-net-5/
END:VEVENT
END:VCALENDAR