BEGIN:VCALENDAR
VERSION:2.0
PRODID:-//Stafford and Districts Amateur Radio Society - ECPv6.15.20//NONSGML v1.0//EN
CALSCALE:GREGORIAN
METHOD:PUBLISH
X-WR-CALNAME:Stafford and Districts Amateur Radio Society
X-ORIGINAL-URL:https://g3sbl.org.uk
X-WR-CALDESC:Events for Stafford and Districts Amateur Radio Society
REFRESH-INTERVAL;VALUE=DURATION:PT1H
X-Robots-Tag:noindex
X-PUBLISHED-TTL:PT1H
BEGIN:VTIMEZONE
TZID:UTC
BEGIN:STANDARD
TZOFFSETFROM:+0000
TZOFFSETTO:+0000
TZNAME:UTC
DTSTART:20240101T000000
END:STANDARD
END:VTIMEZONE
BEGIN:VEVENT
DTSTART;TZID=UTC:20250205T200000
DTEND;TZID=UTC:20250205T220000
DTSTAMP:20260419T200926
CREATED:20250109T144329Z
LAST-MODIFIED:20250130T171827Z
UID:1194-1738785600-1738792800@g3sbl.org.uk
SUMMARY:Talk and demonstration\, Calibration of Oscilloscopes
DESCRIPTION:Club will meet at the Community Centre at 20.00. \nNick will be giving a demonstration of Oscilloscope calibration. \nYou are invited to bring along your own oscilloscopes for calibration during the evening. \nFor those wishing to operate a station we can gain access to the shed early so that the antenna can be set up before 20.00 . \nCan I remind us all to sign in when attending the club\, this helps with the Fire register and also gives us a record of the numbers attending
URL:https://g3sbl.org.uk/event/talk-subject-yet-to-be-confirmed/
END:VEVENT
BEGIN:VEVENT
DTSTART;TZID=UTC:20250212T200000
DTEND;TZID=UTC:20250212T220000
DTSTAMP:20260419T200926
CREATED:20250126T161532Z
LAST-MODIFIED:20250126T161532Z
UID:1203-1739390400-1739397600@g3sbl.org.uk
SUMMARY:Club meeting and Club Net
DESCRIPTION:The club net will be in operation between 20.30 and 21.00 on 145.375FM. \nFor those wishing to operate a station we can gain access to the shed early so that the antenna can be set up before 20.00 . \nCan I remind us all to sign in when attending the club\, this helps with the Fire register and also gives us a record of the numbers attending
URL:https://g3sbl.org.uk/event/club-meeting-and-club-net-9/
END:VEVENT
BEGIN:VEVENT
DTSTART;TZID=UTC:20250219T200000
DTEND;TZID=UTC:20250219T220000
DTSTAMP:20260419T200926
CREATED:20250131T165145Z
LAST-MODIFIED:20250131T165145Z
UID:1207-1739995200-1740002400@g3sbl.org.uk
SUMMARY:Club meeting\, RSGB Video presentation\, Receiving Antennas are Different
DESCRIPTION:Club will meet at the Community Centre at 20.00. \nWe will be showing a Video from the RSGB during the evening. \nReceiving Antennas are Different by Eric P. Nichols\, KL7AJ \nThis video describes why it can be a good idea to have separate transmit and receive antennas. \nFor those wishing to operate a station we can gain access to the shed early so that the antenna can be set up before 20.00 . \nCan I remind us all to sign in when attending the club\, this helps with the Fire register and also gives us a record of the numbers attending
URL:https://g3sbl.org.uk/event/club-meeting-rsgb-video-presentation-receiving-antennas-are-different/
END:VEVENT
BEGIN:VEVENT
DTSTART;TZID=UTC:20250226T200000
DTEND;TZID=UTC:20250226T220000
DTSTAMP:20260419T200926
CREATED:20250131T165327Z
LAST-MODIFIED:20250131T165327Z
UID:1209-1740600000-1740607200@g3sbl.org.uk
SUMMARY:Club meeting and Club Net
DESCRIPTION:The club net will be in operation between 20.30 and 21.00 on 145.375FM. \nFor those wishing to operate a station we can gain access to the shed early so that the antenna can be set up before 20.00 . \nCan I remind us all to sign in when attending the club\, this helps with the Fire register and also gives us a record of the numbers attending
URL:https://g3sbl.org.uk/event/club-meeting-and-club-net-10/
END:VEVENT
END:VCALENDAR